BEGIN:VCALENDAR
VERSION:2.0
PRODID:-//Homepage der Schanzel-Zunft - ECPv6.0.1//NONSGML v1.0//EN
CALSCALE:GREGORIAN
METHOD:PUBLISH
X-ORIGINAL-URL:https://www.schanzel-zunft.de
X-WR-CALDESC:Veranstaltungen für Homepage der Schanzel-Zunft
REFRESH-INTERVAL;VALUE=DURATION:PT1H
X-Robots-Tag:noindex
X-PUBLISHED-TTL:PT1H
BEGIN:VTIMEZONE
TZID:Europe/Berlin
BEGIN:DAYLIGHT
TZOFFSETFROM:+0100
TZOFFSETTO:+0200
TZNAME:CEST
DTSTART:20260329T010000
END:DAYLIGHT
BEGIN:STANDARD
TZOFFSETFROM:+0200
TZOFFSETTO:+0100
TZNAME:CET
DTSTART:20261025T010000
END:STANDARD
END:VTIMEZONE
BEGIN:VEVENT
DTSTART;VALUE=DATE:20260501
DTEND;VALUE=DATE:20260502
DTSTAMP:20260423T103434
CREATED:20260423T043307Z
LAST-MODIFIED:20260423T043307Z
UID:2301-1777593600-1777679999@www.schanzel-zunft.de
SUMMARY:Maiwanderung 2026
DESCRIPTION:mit anschließendem Grillen
URL:https://www.schanzel-zunft.de/event/maiwanderung-2026/
END:VEVENT
END:VCALENDAR